BEGIN:VCALENDAR
VERSION:2.0
PRODID:-// - ECPv6.15.1.1//NONSGML v1.0//EN
CALSCALE:GREGORIAN
METHOD:PUBLISH
X-ORIGINAL-URL:https://graceheritageranch.com
X-WR-CALDESC:Events for 
REFRESH-INTERVAL;VALUE=DURATION:PT1H
X-Robots-Tag:noindex
X-PUBLISHED-TTL:PT1H
BEGIN:VTIMEZONE
TZID:America/Chicago
BEGIN:DAYLIGHT
TZOFFSETFROM:-0600
TZOFFSETTO:-0500
TZNAME:CDT
DTSTART:20190310T080000
END:DAYLIGHT
BEGIN:STANDARD
TZOFFSETFROM:-0500
TZOFFSETTO:-0600
TZNAME:CST
DTSTART:20191103T070000
END:STANDARD
END:VTIMEZONE
BEGIN:VEVENT
DTSTART;TZID=America/Chicago:20190712T090000
DTEND;TZID=America/Chicago:20190712T130000
DTSTAMP:20260423T142925
CREATED:20190602T153120Z
LAST-MODIFIED:20190602T153120Z
UID:8131-1562922000-1562936400@graceheritageranch.com
SUMMARY:Ranch Tour â€“ Reserved â€“ CHS
DESCRIPTION:
URL:https://graceheritageranch.com/event/ranch-tour-reserved-chs-13/
LOCATION:Grace Heritage Ranch\, Grace Heritage Ranch\, Santa Monica\, TX\, 78569\, United States
END:VEVENT
BEGIN:VEVENT
DTSTART;VALUE=DATE:20190709
DTEND;VALUE=DATE:20190710
DTSTAMP:20260423T142925
CREATED:20190529T233511Z
LAST-MODIFIED:20190529T233511Z
UID:8119-1562630400-1562716799@graceheritageranch.com
SUMMARY:Date Unavailable
DESCRIPTION:
URL:https://graceheritageranch.com/event/date-unavailable-33/
END:VEVENT
BEGIN:VEVENT
DTSTART;VALUE=DATE:20190708
DTEND;VALUE=DATE:20190709
DTSTAMP:20260423T142925
CREATED:20190529T233907Z
LAST-MODIFIED:20190529T233907Z
UID:8123-1562544000-1562630399@graceheritageranch.com
SUMMARY:Date Unavailable
DESCRIPTION:
URL:https://graceheritageranch.com/event/date-unavailable-37/
END:VEVENT
BEGIN:VEVENT
DTSTART;VALUE=DATE:20190705
DTEND;VALUE=DATE:20190706
DTSTAMP:20260423T142925
CREATED:20190529T233042Z
LAST-MODIFIED:20190529T233148Z
UID:8115-1562284800-1562371199@graceheritageranch.com
SUMMARY:Date Unavailable
DESCRIPTION:
URL:https://graceheritageranch.com/event/dae-unavailable/
END:VEVENT
BEGIN:VEVENT
DTSTART;VALUE=DATE:20190704
DTEND;VALUE=DATE:20190705
DTSTAMP:20260423T142925
CREATED:20190529T233240Z
LAST-MODIFIED:20190529T233240Z
UID:8117-1562198400-1562284799@graceheritageranch.com
SUMMARY:Happy Independence Day!
DESCRIPTION:
URL:https://graceheritageranch.com/event/happy-independence-day-2/
END:VEVENT
BEGIN:VEVENT
DTSTART;VALUE=DATE:20190703
DTEND;VALUE=DATE:20190704
DTSTAMP:20260423T142925
CREATED:20190529T233736Z
LAST-MODIFIED:20190529T233736Z
UID:8121-1562112000-1562198399@graceheritageranch.com
SUMMARY:Date Unavailable
DESCRIPTION:
URL:https://graceheritageranch.com/event/date-unavailable-35/
END:VEVENT
BEGIN:VEVENT
DTSTART;VALUE=DATE:20190702
DTEND;VALUE=DATE:20190703
DTSTAMP:20260423T142925
CREATED:20190529T233807Z
LAST-MODIFIED:20190529T233807Z
UID:8122-1562025600-1562111999@graceheritageranch.com
SUMMARY:Date Unavailable
DESCRIPTION:
URL:https://graceheritageranch.com/event/date-unavailable-36/
END:VEVENT
BEGIN:VEVENT
DTSTART;VALUE=DATE:20190629
DTEND;VALUE=DATE:20190630
DTSTAMP:20260423T142925
CREATED:20190522T004050Z
LAST-MODIFIED:20190522T004050Z
UID:8074-1561766400-1561852799@graceheritageranch.com
SUMMARY:Date Unavailable
DESCRIPTION:
URL:https://graceheritageranch.com/event/date-unavailable-29/
END:VEVENT
BEGIN:VEVENT
DTSTART;VALUE=DATE:20190626
DTEND;VALUE=DATE:20190627
DTSTAMP:20260423T142925
CREATED:20190524T163726Z
LAST-MODIFIED:20190524T163726Z
UID:8085-1561507200-1561593599@graceheritageranch.com
SUMMARY:Date Unavailable
DESCRIPTION:
URL:https://graceheritageranch.com/event/date-unavailable-31/
LOCATION:Grace Heritage Ranch\, Grace Heritage Ranch\, Santa Monica\, TX\, 78569\, United States
END:VEVENT
BEGIN:VEVENT
DTSTART;TZID=America/Chicago:20190625T090000
DTEND;TZID=America/Chicago:20190625T130000
DTSTAMP:20260423T142925
CREATED:20190502T032532Z
LAST-MODIFIED:20190502T032532Z
UID:7988-1561453200-1561467600@graceheritageranch.com
SUMMARY:Ranch Tour - Reserved - CHS
DESCRIPTION:
URL:https://graceheritageranch.com/event/ranch-tour-reserved-chs-11/
LOCATION:Grace Heritage Ranch\, Grace Heritage Ranch\, Santa Monica\, TX\, 78569\, United States
END:VEVENT
BEGIN:VEVENT
DTSTART;VALUE=DATE:20190624
DTEND;VALUE=DATE:20190625
DTSTAMP:20260423T142925
CREATED:20190519T194505Z
LAST-MODIFIED:20190519T194505Z
UID:8069-1561334400-1561420799@graceheritageranch.com
SUMMARY:Date Unavailable
DESCRIPTION:
URL:https://graceheritageranch.com/event/date-unavailable-26/
LOCATION:Grace Heritage Ranch\, Grace Heritage Ranch\, Santa Monica\, TX\, 78569\, United States
END:VEVENT
BEGIN:VEVENT
DTSTART;TZID=America/Chicago:20190622T090000
DTEND;TZID=America/Chicago:20190622T130000
DTSTAMP:20260423T142925
CREATED:20190522T012104Z
LAST-MODIFIED:20190522T012104Z
UID:8076-1561194000-1561208400@graceheritageranch.com
SUMMARY:Ranch Tour - Cub Scout Troop 1954 - Edinburg
DESCRIPTION:
URL:https://graceheritageranch.com/event/ranch-tour-cub-scout-troop-1954-edinburg/
LOCATION:Grace Heritage Ranch\, Grace Heritage Ranch\, Santa Monica\, TX\, 78569\, United States
END:VEVENT
BEGIN:VEVENT
DTSTART;TZID=America/Chicago:20190620T090000
DTEND;TZID=America/Chicago:20190620T140000
DTSTAMP:20260423T142925
CREATED:20190326T033048Z
LAST-MODIFIED:20190326T033048Z
UID:7967-1561021200-1561039200@graceheritageranch.com
SUMMARY:Camp Good Sam - Summer Learning Camp
DESCRIPTION:This is a summer learning camp field day from a group from Camp Good Sam. Â  Thank you Melinda!! \nPlease call 1-844-847-4844 to set up your tour for groups of 20 or more. \nSee our Homestead Tour page for more information.
URL:https://graceheritageranch.com/event/camp-good-sam-summer-learning-camp/
LOCATION:Grace Heritage Ranch\, Grace Heritage Ranch\, Santa Monica\, TX\, 78569\, United States
END:VEVENT
BEGIN:VEVENT
DTSTART;TZID=America/Chicago:20190618T090000
DTEND;TZID=America/Chicago:20190618T130000
DTSTAMP:20260423T142925
CREATED:20190502T032458Z
LAST-MODIFIED:20190502T032458Z
UID:7987-1560848400-1560862800@graceheritageranch.com
SUMMARY:Ranch Tour - Reserved - CHS
DESCRIPTION:
URL:https://graceheritageranch.com/event/ranch-tour-reserved-chs-10/
LOCATION:Grace Heritage Ranch\, Grace Heritage Ranch\, Santa Monica\, TX\, 78569\, United States
END:VEVENT
BEGIN:VEVENT
DTSTART;VALUE=DATE:20190617
DTEND;VALUE=DATE:20190618
DTSTAMP:20260423T142925
CREATED:20190519T194437Z
LAST-MODIFIED:20190519T194437Z
UID:8068-1560729600-1560815999@graceheritageranch.com
SUMMARY:Date Unavailable
DESCRIPTION:
URL:https://graceheritageranch.com/event/date-unavailable-25/
LOCATION:Grace Heritage Ranch\, Grace Heritage Ranch\, Santa Monica\, TX\, 78569\, United States
END:VEVENT
BEGIN:VEVENT
DTSTART;TZID=America/Chicago:20190615T090000
DTEND;TZID=America/Chicago:20190615T130000
DTSTAMP:20260423T142925
CREATED:20190522T001650Z
LAST-MODIFIED:20190522T002049Z
UID:8071-1560589200-1560603600@graceheritageranch.com
SUMMARY:Ranch Tour - Bethel Community Church - Alamo
DESCRIPTION:
URL:https://graceheritageranch.com/event/ranch-tour-bethel-community-church-donna/
LOCATION:Grace Heritage Ranch\, Grace Heritage Ranch\, Santa Monica\, TX\, 78569\, United States
END:VEVENT
BEGIN:VEVENT
DTSTART;TZID=America/Chicago:20190614T090000
DTEND;TZID=America/Chicago:20190614T130000
DTSTAMP:20260423T142925
CREATED:20190514T021752Z
LAST-MODIFIED:20190514T021752Z
UID:7993-1560502800-1560517200@graceheritageranch.com
SUMMARY:Ranch Tour - Reserved - CHS II
DESCRIPTION:
URL:https://graceheritageranch.com/event/ranch-tour-reserved-chs-ii-3/
LOCATION:Grace Heritage Ranch\, Grace Heritage Ranch\, Santa Monica\, TX\, 78569\, United States
END:VEVENT
BEGIN:VEVENT
DTSTART;TZID=America/Chicago:20190613T090000
DTEND;TZID=America/Chicago:20190613T130000
DTSTAMP:20260423T142925
CREATED:20190502T032425Z
LAST-MODIFIED:20190502T032425Z
UID:7986-1560416400-1560430800@graceheritageranch.com
SUMMARY:Ranch Tour - Reserved - CHS
DESCRIPTION:
URL:https://graceheritageranch.com/event/ranch-tour-reserved-chs-9/
LOCATION:Grace Heritage Ranch\, Grace Heritage Ranch\, Santa Monica\, TX\, 78569\, United States
END:VEVENT
BEGIN:VEVENT
DTSTART;TZID=America/Chicago:20190611T090000
DTEND;TZID=America/Chicago:20190611T130000
DTSTAMP:20260423T142925
CREATED:20190502T032349Z
LAST-MODIFIED:20190502T032349Z
UID:7985-1560243600-1560258000@graceheritageranch.com
SUMMARY:Ranch Tour - Reserved - CHS
DESCRIPTION:
URL:https://graceheritageranch.com/event/ranch-tour-reserved-chs-8/
LOCATION:Grace Heritage Ranch\, Grace Heritage Ranch\, Santa Monica\, TX\, 78569\, United States
END:VEVENT
BEGIN:VEVENT
DTSTART;TZID=America/Chicago:20190610T090000
DTEND;TZID=America/Chicago:20190610T130000
DTSTAMP:20260423T142925
CREATED:20190514T021715Z
LAST-MODIFIED:20190514T021715Z
UID:7992-1560157200-1560171600@graceheritageranch.com
SUMMARY:Ranch Tour - Reserved - CHS II
DESCRIPTION:
URL:https://graceheritageranch.com/event/ranch-tour-reserved-chs-ii-2/
LOCATION:Grace Heritage Ranch\, Grace Heritage Ranch\, Santa Monica\, TX\, 78569\, United States
END:VEVENT
BEGIN:VEVENT
DTSTART;VALUE=DATE:20190608
DTEND;VALUE=DATE:20190609
DTSTAMP:20260423T142925
CREATED:20190522T003837Z
LAST-MODIFIED:20190522T003837Z
UID:8073-1559952000-1560038399@graceheritageranch.com
SUMMARY:Date Unavailable
DESCRIPTION:
URL:https://graceheritageranch.com/event/date-unavailable-28/
END:VEVENT
BEGIN:VEVENT
DTSTART;TZID=America/Chicago:20190607T090000
DTEND;TZID=America/Chicago:20190607T130000
DTSTAMP:20260423T142925
CREATED:20190503T023457Z
LAST-MODIFIED:20190503T023457Z
UID:7989-1559898000-1559912400@graceheritageranch.com
SUMMARY:Ranch Tour - Reserved - CHS
DESCRIPTION:
URL:https://graceheritageranch.com/event/ranch-tour-reserved-chs-12/
LOCATION:Grace Heritage Ranch\, Grace Heritage Ranch\, Santa Monica\, TX\, 78569\, United States
END:VEVENT
BEGIN:VEVENT
DTSTART;VALUE=DATE:20190606
DTEND;VALUE=DATE:20190607
DTSTAMP:20260423T142925
CREATED:20190502T010328Z
LAST-MODIFIED:20190502T010328Z
UID:7975-1559779200-1559865599@graceheritageranch.com
SUMMARY:Date Unavailable
DESCRIPTION:
URL:https://graceheritageranch.com/event/date-unavailable-24/
LOCATION:Grace Heritage Ranch\, Grace Heritage Ranch\, Santa Monica\, TX\, 78569\, United States
END:VEVENT
BEGIN:VEVENT
DTSTART;VALUE=DATE:20190605
DTEND;VALUE=DATE:20190606
DTSTAMP:20260423T142925
CREATED:20190522T011822Z
LAST-MODIFIED:20190522T011822Z
UID:8075-1559692800-1559779199@graceheritageranch.com
SUMMARY:Date Unavailable
DESCRIPTION:
URL:https://graceheritageranch.com/event/date-unavailable-30/
END:VEVENT
BEGIN:VEVENT
DTSTART;TZID=America/Chicago:20190604T090000
DTEND;TZID=America/Chicago:20190604T130000
DTSTAMP:20260423T142925
CREATED:20190502T032316Z
LAST-MODIFIED:20190502T032316Z
UID:7984-1559638800-1559653200@graceheritageranch.com
SUMMARY:Ranch Tour - Reserved - CHS
DESCRIPTION:
URL:https://graceheritageranch.com/event/ranch-tour-reserved-chs-7/
LOCATION:Grace Heritage Ranch\, Grace Heritage Ranch\, Santa Monica\, TX\, 78569\, United States
END:VEVENT
BEGIN:VEVENT
DTSTART;TZID=America/Chicago:20190603T090000
DTEND;TZID=America/Chicago:20190603T130000
DTSTAMP:20260423T142925
CREATED:20190514T021639Z
LAST-MODIFIED:20190514T021639Z
UID:7991-1559552400-1559566800@graceheritageranch.com
SUMMARY:Ranch Tour - Reserved - CHS II
DESCRIPTION:
URL:https://graceheritageranch.com/event/ranch-tour-reserved-chs-ii/
LOCATION:Grace Heritage Ranch\, Grace Heritage Ranch\, Santa Monica\, TX\, 78569\, United States
END:VEVENT
BEGIN:VEVENT
DTSTART;TZID=America/Chicago:20190531T090000
DTEND;TZID=America/Chicago:20190531T130000
DTSTAMP:20260423T142925
CREATED:20190502T032126Z
LAST-MODIFIED:20190514T021456Z
UID:7983-1559293200-1559307600@graceheritageranch.com
SUMMARY:Ranch Tour - Reserved - CHS
DESCRIPTION:
URL:https://graceheritageranch.com/event/ranch-tour-reserved-chs-6/
LOCATION:Grace Heritage Ranch\, Grace Heritage Ranch\, Santa Monica\, TX\, 78569\, United States
END:VEVENT
BEGIN:VEVENT
DTSTART;TZID=America/Chicago:20190530T090000
DTEND;TZID=America/Chicago:20190530T130000
DTSTAMP:20260423T142925
CREATED:20190502T032052Z
LAST-MODIFIED:20190502T032052Z
UID:7982-1559206800-1559221200@graceheritageranch.com
SUMMARY:Ranch Tour - Reserved - CHS
DESCRIPTION:
URL:https://graceheritageranch.com/event/ranch-tour-reserved-chs-5/
LOCATION:Grace Heritage Ranch\, Grace Heritage Ranch\, Santa Monica\, TX\, 78569\, United States
END:VEVENT
BEGIN:VEVENT
DTSTART;TZID=America/Chicago:20190529T090000
DTEND;TZID=America/Chicago:20190529T130000
DTSTAMP:20260423T142925
CREATED:20190502T032017Z
LAST-MODIFIED:20190502T032017Z
UID:7981-1559120400-1559134800@graceheritageranch.com
SUMMARY:Ranch Tour - Reserved - CHS
DESCRIPTION:
URL:https://graceheritageranch.com/event/ranch-tour-reserved-chs-4/
LOCATION:Grace Heritage Ranch\, Grace Heritage Ranch\, Santa Monica\, TX\, 78569\, United States
END:VEVENT
BEGIN:VEVENT
DTSTART;TZID=America/Chicago:20190528T093000
DTEND;TZID=America/Chicago:20190528T133000
DTSTAMP:20260423T142925
CREATED:20190326T032507Z
LAST-MODIFIED:20190326T032507Z
UID:7966-1559035800-1559050200@graceheritageranch.com
SUMMARY:Field Trip - Ramirez Elementary - Edinburg
DESCRIPTION:This is a field trip for a class from Ramirez Elementary in Edinburg.Â  Thank you Sandra!! \nPlease call 1-844-847-4844 to set up your tour for groups of 20 or more. \nSee our Homestead Tour page for more information.
URL:https://graceheritageranch.com/event/field-trip-ramirez-elementary-edinburg/
LOCATION:Grace Heritage Ranch\, Grace Heritage Ranch\, Santa Monica\, TX\, 78569\, United States
END:VEVENT
END:VCALENDAR