BEGIN:VCALENDAR
VERSION:2.0
PRODID:-// - ECPv6.15.1.1//NONSGML v1.0//EN
CALSCALE:GREGORIAN
METHOD:PUBLISH
X-ORIGINAL-URL:https://graceheritageranch.com
X-WR-CALDESC:Events for 
REFRESH-INTERVAL;VALUE=DURATION:PT1H
X-Robots-Tag:noindex
X-PUBLISHED-TTL:PT1H
BEGIN:VTIMEZONE
TZID:America/Chicago
BEGIN:DAYLIGHT
TZOFFSETFROM:-0600
TZOFFSETTO:-0500
TZNAME:CDT
DTSTART:20180311T080000
END:DAYLIGHT
BEGIN:STANDARD
TZOFFSETFROM:-0500
TZOFFSETTO:-0600
TZNAME:CST
DTSTART:20181104T070000
END:STANDARD
END:VTIMEZONE
BEGIN:VEVENT
DTSTART;TZID=America/Chicago:20181027T080000
DTEND;TZID=America/Chicago:20181027T170000
DTSTAMP:20260423T155503
CREATED:20181027T220815Z
LAST-MODIFIED:20181027T220845Z
UID:7870-1540627200-1540659600@graceheritageranch.com
SUMMARY:Autumn Adventure 2018 - Closed as GHR E X P A N D S
DESCRIPTION:We are adding wildlife watering holes to our mile-long nature path on 60 acres\, and we are adding an irrigation system so we can offer a CORN MAZE with our 2019 Autumn Adventure!!!Â  We will open our Autumn Adventure again in 2019!!
URL:https://graceheritageranch.com/event/autumn-adventure-2018-closed-ghr-e-x-p-n-d-s-4/
END:VEVENT
BEGIN:VEVENT
DTSTART;VALUE=DATE:20181020
DTEND;VALUE=DATE:20181021
DTSTAMP:20260423T155503
CREATED:20181027T220731Z
LAST-MODIFIED:20181027T220731Z
UID:7869-1539993600-1540079999@graceheritageranch.com
SUMMARY:Autumn Adventure 2018 - Closed as GHR  E X P A N D S
DESCRIPTION:We are adding wildlife watering holes to our mile-long nature path on 60 acres\, and we are adding an irrigation system so we can offer a CORN MAZE with our 2019 Autumn Adventure!!!Â  We will open our Autumn Adventure again in 2019!!
URL:https://graceheritageranch.com/event/autumn-adventure-2018-closed-ghr-e-x-p-n-d-s-3/
LOCATION:Grace Heritage Ranch\, Grace Heritage Ranch\, Santa Monica\, TX\, 78569\, United States
END:VEVENT
BEGIN:VEVENT
DTSTART;VALUE=DATE:20181013
DTEND;VALUE=DATE:20181014
DTSTAMP:20260423T155503
CREATED:20181027T220632Z
LAST-MODIFIED:20181027T220632Z
UID:7868-1539388800-1539475199@graceheritageranch.com
SUMMARY:Autumn Adventure 2018 - Closed as GHR E X P A N D S
DESCRIPTION:We are adding wildlife watering holes to our mile-long nature path on 60 acres\, and we are adding an irrigation system so we can offer a CORN MAZE with our 2019 Autumn Adventure!!!Â  We will open our Autumn Adventure again in 2019!!
URL:https://graceheritageranch.com/event/autumn-adventure-2018-closed-ghr-e-x-p-n-d-s-2/
LOCATION:Grace Heritage Ranch\, Grace Heritage Ranch\, Santa Monica\, TX\, 78569\, United States
END:VEVENT
BEGIN:VEVENT
DTSTART;VALUE=DATE:20181006
DTEND;VALUE=DATE:20181007
DTSTAMP:20260423T155503
CREATED:20181027T220431Z
LAST-MODIFIED:20181027T220431Z
UID:7867-1538784000-1538870399@graceheritageranch.com
SUMMARY:Autumn Adventure 2018 - Closed as GHR E X P A N D S
DESCRIPTION:We are adding wildlife watering holes to our mile-long nature path on 60 acres\, and we are adding an irrigation system so we can offer a CORN MAZE with our 2019 Autumn Adventure!!!Â  We will open our Autumn Adventure again in 2019!!
URL:https://graceheritageranch.com/event/autumn-adventure-2018-closed-ghr-e-x-p-n-d-s/
LOCATION:Grace Heritage Ranch\, Grace Heritage Ranch\, Santa Monica\, TX\, 78569\, United States
END:VEVENT
BEGIN:VEVENT
DTSTART;VALUE=DATE:20180922
DTEND;VALUE=DATE:20180923
DTSTAMP:20260423T155503
CREATED:20181027T220324Z
LAST-MODIFIED:20181027T220324Z
UID:7866-1537574400-1537660799@graceheritageranch.com
SUMMARY:Autumn Adventure 2018 - Closed as GHR E X P A N D S
DESCRIPTION:We are adding wildlife watering holes to our mile-long nature path on 60 acres\, and we are adding an irrigation system so we can offer a CORN MAZE with our 2019 Autumn Adventure!!!Â  We will open our Autumn Adventure again in 2019!!
URL:https://graceheritageranch.com/event/autumn-adventure-2018-closed/
LOCATION:Grace Heritage Ranch\, Grace Heritage Ranch\, Santa Monica\, TX\, 78569\, United States
END:VEVENT
BEGIN:VEVENT
DTSTART;VALUE=DATE:20180903
DTEND;VALUE=DATE:20180904
DTSTAMP:20260423T155503
CREATED:20180527T171726Z
LAST-MODIFIED:20180527T171726Z
UID:7863-1535932800-1536019199@graceheritageranch.com
SUMMARY:HAPPY LABOR DAY!!
DESCRIPTION:
URL:https://graceheritageranch.com/event/happy-labor-day/
END:VEVENT
BEGIN:VEVENT
DTSTART;VALUE=DATE:20180825
DTEND;VALUE=DATE:20180826
DTSTAMP:20260423T155503
CREATED:20180527T171338Z
LAST-MODIFIED:20180527T171338Z
UID:7861-1535155200-1535241599@graceheritageranch.com
SUMMARY:CLOSED FOR THE SUMMER
DESCRIPTION:
URL:https://graceheritageranch.com/event/closed-for-the-summer-5/
END:VEVENT
BEGIN:VEVENT
DTSTART;VALUE=DATE:20180818
DTEND;VALUE=DATE:20180819
DTSTAMP:20260423T155503
CREATED:20180527T171306Z
LAST-MODIFIED:20180527T171306Z
UID:7860-1534550400-1534636799@graceheritageranch.com
SUMMARY:CLOSED FOR THE SUMMER
DESCRIPTION:
URL:https://graceheritageranch.com/event/closed-for-the-summer-4/
END:VEVENT
BEGIN:VEVENT
DTSTART;VALUE=DATE:20180811
DTEND;VALUE=DATE:20180812
DTSTAMP:20260423T155503
CREATED:20180527T171233Z
LAST-MODIFIED:20180527T171233Z
UID:7859-1533945600-1534031999@graceheritageranch.com
SUMMARY:CLOSED FOR THE SUMMER
DESCRIPTION:
URL:https://graceheritageranch.com/event/closed-summer-4-2/
END:VEVENT
BEGIN:VEVENT
DTSTART;VALUE=DATE:20180804
DTEND;VALUE=DATE:20180805
DTSTAMP:20260423T155503
CREATED:20180527T170557Z
LAST-MODIFIED:20180527T170557Z
UID:7850-1533340800-1533427199@graceheritageranch.com
SUMMARY:CLOSED FOR THE SUMMER
DESCRIPTION:
URL:https://graceheritageranch.com/event/closed-summer-3/
LOCATION:Grace Heritage Ranch\, Grace Heritage Ranch\, Santa Monica\, TX\, 78569\, United States
END:VEVENT
BEGIN:VEVENT
DTSTART;VALUE=DATE:20180728
DTEND;VALUE=DATE:20180729
DTSTAMP:20260423T155503
CREATED:20180527T171043Z
LAST-MODIFIED:20180527T171043Z
UID:7857-1532736000-1532822399@graceheritageranch.com
SUMMARY:CLOSED FOR THE SUMMER
DESCRIPTION:
URL:https://graceheritageranch.com/event/closed-summer-4/
END:VEVENT
BEGIN:VEVENT
DTSTART;VALUE=DATE:20180721
DTEND;VALUE=DATE:20180722
DTSTAMP:20260423T155503
CREATED:20180527T171016Z
LAST-MODIFIED:20180527T171016Z
UID:7856-1532131200-1532217599@graceheritageranch.com
SUMMARY:CLOSED FOR THE SUMMER
DESCRIPTION:
URL:https://graceheritageranch.com/event/closed-for-the-summer-3/
END:VEVENT
BEGIN:VEVENT
DTSTART;VALUE=DATE:20180714
DTEND;VALUE=DATE:20180715
DTSTAMP:20260423T155503
CREATED:20180527T170947Z
LAST-MODIFIED:20180527T170947Z
UID:7855-1531526400-1531612799@graceheritageranch.com
SUMMARY:CLOSED FOR THE SUMMER
DESCRIPTION:
URL:https://graceheritageranch.com/event/closed-summer-3-6/
END:VEVENT
BEGIN:VEVENT
DTSTART;VALUE=DATE:20180707
DTEND;VALUE=DATE:20180708
DTSTAMP:20260423T155503
CREATED:20180527T170526Z
LAST-MODIFIED:20180527T170526Z
UID:7849-1530921600-1531007999@graceheritageranch.com
SUMMARY:CLOSED FOR THE SUMMER
DESCRIPTION:
URL:https://graceheritageranch.com/event/closed-for-the-summer-2/
LOCATION:Grace Heritage Ranch\, Grace Heritage Ranch\, Santa Monica\, TX\, 78569\, United States
END:VEVENT
BEGIN:VEVENT
DTSTART;VALUE=DATE:20180704
DTEND;VALUE=DATE:20180705
DTSTAMP:20260423T155503
CREATED:20180527T171124Z
LAST-MODIFIED:20180527T171124Z
UID:7858-1530662400-1530748799@graceheritageranch.com
SUMMARY:HAPPY INDEPENDENCE DAY!!
DESCRIPTION:
URL:https://graceheritageranch.com/event/happy-independence-day/
END:VEVENT
BEGIN:VEVENT
DTSTART;VALUE=DATE:20180630
DTEND;VALUE=DATE:20180701
DTSTAMP:20260423T155503
CREATED:20180527T170837Z
LAST-MODIFIED:20180527T170837Z
UID:7854-1530316800-1530403199@graceheritageranch.com
SUMMARY:CLOSED FOR THE SUMMER
DESCRIPTION:
URL:https://graceheritageranch.com/event/closed-summer-3-5/
END:VEVENT
BEGIN:VEVENT
DTSTART;VALUE=DATE:20180623
DTEND;VALUE=DATE:20180624
DTSTAMP:20260423T155503
CREATED:20180527T170800Z
LAST-MODIFIED:20180527T170800Z
UID:7853-1529712000-1529798399@graceheritageranch.com
SUMMARY:CLOSED FOR THE SUMMER
DESCRIPTION:
URL:https://graceheritageranch.com/event/closed-summer-3-4/
END:VEVENT
BEGIN:VEVENT
DTSTART;VALUE=DATE:20180617
DTEND;VALUE=DATE:20180618
DTSTAMP:20260423T155503
CREATED:20180527T171540Z
LAST-MODIFIED:20180527T171540Z
UID:7862-1529193600-1529279999@graceheritageranch.com
SUMMARY:HAPPY FATHER'S DAY!!
DESCRIPTION:
URL:https://graceheritageranch.com/event/happy-fathers-day/
END:VEVENT
BEGIN:VEVENT
DTSTART;VALUE=DATE:20180616
DTEND;VALUE=DATE:20180617
DTSTAMP:20260423T155503
CREATED:20180527T170734Z
LAST-MODIFIED:20180527T170734Z
UID:7852-1529107200-1529193599@graceheritageranch.com
SUMMARY:CLOSED FOR THE SUMMER
DESCRIPTION:
URL:https://graceheritageranch.com/event/closed-summer-3-3/
END:VEVENT
BEGIN:VEVENT
DTSTART;VALUE=DATE:20180609
DTEND;VALUE=DATE:20180610
DTSTAMP:20260423T155503
CREATED:20180527T170700Z
LAST-MODIFIED:20180527T170700Z
UID:7851-1528502400-1528588799@graceheritageranch.com
SUMMARY:CLOSED FOR THE SUMMER
DESCRIPTION:
URL:https://graceheritageranch.com/event/closed-summer-3-2/
END:VEVENT
BEGIN:VEVENT
DTSTART;VALUE=DATE:20180602
DTEND;VALUE=DATE:20180603
DTSTAMP:20260423T155503
CREATED:20180527T170448Z
LAST-MODIFIED:20180527T170448Z
UID:7848-1527897600-1527983999@graceheritageranch.com
SUMMARY:CLOSED FOR THE SUMMER
DESCRIPTION:
URL:https://graceheritageranch.com/event/closed-for-the-summer/
LOCATION:Grace Heritage Ranch\, Grace Heritage Ranch\, Santa Monica\, TX\, 78569\, United States
END:VEVENT
BEGIN:VEVENT
DTSTART;TZID=America/Chicago:20180530T090000
DTEND;TZID=America/Chicago:20180530T130000
DTSTAMP:20260423T155503
CREATED:20180412T034424Z
LAST-MODIFIED:20180412T034424Z
UID:7843-1527670800-1527685200@graceheritageranch.com
SUMMARY:Field Trip - IDEA Academy - Edinburg
DESCRIPTION:This is a field trip for the 2nd grade class at IDEA Edinburg.Â  Thank you Evelyn!! \nPlease call 1-844-847-4844 to set up your tour for groups of 20 or more. \nSee our Homestead Tour page for more information.
URL:https://graceheritageranch.com/event/field-trip-idea-academy-edinburg/
LOCATION:Grace Heritage Ranch\, Grace Heritage Ranch\, Santa Monica\, TX\, 78569\, United States
END:VEVENT
BEGIN:VEVENT
DTSTART;TZID=America/Chicago:20180526T080000
DTEND;TZID=America/Chicago:20180526T130000
DTSTAMP:20260423T155503
CREATED:20180214T021304Z
LAST-MODIFIED:20180214T021607Z
UID:7804-1527321600-1527339600@graceheritageranch.com
SUMMARY:Boy Scouts - Animal Science Merit Badge
DESCRIPTION:Tentative. \nAt Grace Heritage Ranch\, we offer the Animal Science Merit Badge to Boy Scouts.Â  A few hours of teaching and a few hours on the tour meet the badge requirements. \nSee more information on our Boy Scout web page. \n 
URL:https://graceheritageranch.com/event/boy-scouts-animal-science-merit-badge/
LOCATION:Grace Heritage Ranch\, Grace Heritage Ranch\, Santa Monica\, TX\, 78569\, United States
END:VEVENT
BEGIN:VEVENT
DTSTART;TZID=America/Chicago:20180524T090000
DTEND;TZID=America/Chicago:20180524T130000
DTSTAMP:20260423T155503
CREATED:20180404T013115Z
LAST-MODIFIED:20180404T013115Z
UID:7832-1527152400-1527166800@graceheritageranch.com
SUMMARY:Field Trip - Angela G. Leal Elementary - San Benito
DESCRIPTION:This is a field trip for the 5th grade class at Leal Elementary in San Benito.Â  Thank you Mariza!! \nPlease call 1-844-847-4844 to set up your tour for groups of 20 or more. \nSee our Homestead Tour page for more information.
URL:https://graceheritageranch.com/event/field-trip-angela-g-leal-elementary-san-benito/
LOCATION:Grace Heritage Ranch\, Grace Heritage Ranch\, Santa Monica\, TX\, 78569\, United States
END:VEVENT
BEGIN:VEVENT
DTSTART;TZID=America/Chicago:20180521T090000
DTEND;TZID=America/Chicago:20180521T130000
DTSTAMP:20260423T155503
CREATED:20180309T031449Z
LAST-MODIFIED:20180330T012520Z
UID:7819-1526893200-1526907600@graceheritageranch.com
SUMMARY:Field Trip - Hanna High School - Brownsville
DESCRIPTION:This is a field trip for a high school group from Hanna High in Brownsville.Â  Thank you Shari!! \nPlease call 1-844-847-4844 to set up your tour for groups of 20 or more. \nSee our Homestead Tour page for more information.
URL:https://graceheritageranch.com/event/field-trip-hanna-high-school-brownsville/
LOCATION:Grace Heritage Ranch\, Grace Heritage Ranch\, Santa Monica\, TX\, 78569\, United States
END:VEVENT
BEGIN:VEVENT
DTSTART;TZID=America/Chicago:20180518T090000
DTEND;TZID=America/Chicago:20180518T130000
DTSTAMP:20260423T155503
CREATED:20180410T205047Z
LAST-MODIFIED:20180410T205047Z
UID:7842-1526634000-1526648400@graceheritageranch.com
SUMMARY:Field Trip - LC Smith Elementary - Raymondville
DESCRIPTION:This is a field trip for a 4th and 5th grade group from LC Smith Elementary in Raymondville.Â  Thank you Adriana!! \nPlease call 1-844-847-4844 to set up your tour for groups of 20 or more. \nSee our Homestead Tour page for more information.
URL:https://graceheritageranch.com/event/field-trip-lc-smith-elementary-raymondville/
LOCATION:Grace Heritage Ranch\, Grace Heritage Ranch\, Santa Monica\, TX\, 78569\, United States
END:VEVENT
BEGIN:VEVENT
DTSTART;TZID=America/Chicago:20180516T090000
DTEND;TZID=America/Chicago:20180516T130000
DTSTAMP:20260423T155503
CREATED:20180405T023519Z
LAST-MODIFIED:20180405T023519Z
UID:7833-1526461200-1526475600@graceheritageranch.com
SUMMARY:Field Trip - Rangerville Elementary - San Benito
DESCRIPTION:This is a field trip for the 1st and 2nd grade class at Rangerville Elementary in San Benito.Â  Thank you Nelda!! \nPlease call 1-844-847-4844 to set up your tour for groups of 20 or more. \nSee our Homestead Tour page for more information.
URL:https://graceheritageranch.com/event/7833/
LOCATION:Grace Heritage Ranch\, Grace Heritage Ranch\, Santa Monica\, TX\, 78569\, United States
END:VEVENT
BEGIN:VEVENT
DTSTART;VALUE=DATE:20180515
DTEND;VALUE=DATE:20180516
DTSTAMP:20260423T155503
CREATED:20180408T140756Z
LAST-MODIFIED:20180408T140756Z
UID:7841-1526342400-1526428799@graceheritageranch.com
SUMMARY:Date Not Available
DESCRIPTION:
URL:https://graceheritageranch.com/event/date-not-available-4/
END:VEVENT
BEGIN:VEVENT
DTSTART;TZID=America/Chicago:20180511T090000
DTEND;TZID=America/Chicago:20180511T130000
DTSTAMP:20260423T155503
CREATED:20180416T231950Z
LAST-MODIFIED:20180416T231950Z
UID:7845-1526029200-1526043600@graceheritageranch.com
SUMMARY:Field Trip - Travis Elementary - Harlingen
DESCRIPTION:This is a field trip for theÂ 1st gradeÂ class at Travis Elementary in Harlingen.Â  Thank you Michelle!! \nPlease call 1-844-847-4844 to set up your tour for groups of 20 or more. \nSee our Homestead Tour page for more information.
URL:https://graceheritageranch.com/event/field-trip-travis-elementary-harlingen-2/
LOCATION:Grace Heritage Ranch\, Grace Heritage Ranch\, Santa Monica\, TX\, 78569\, United States
END:VEVENT
BEGIN:VEVENT
DTSTART;TZID=America/Chicago:20180510T090000
DTEND;TZID=America/Chicago:20180510T130000
DTSTAMP:20260423T155503
CREATED:20180408T140224Z
LAST-MODIFIED:20180408T140224Z
UID:7839-1525942800-1525957200@graceheritageranch.com
SUMMARY:Field Trip - Learning Journey - Edinburg
DESCRIPTION:This is a field trip for the pre-K children at Learning Journey Childcare in Edinburg.Â  Thank you Marta!! \nPlease call 1-844-847-4844 to set up your tour for groups of 20 or more. \nSee our Homestead Tour page for more information.
URL:https://graceheritageranch.com/event/field-trip-learning-journey-edinburg-2/
LOCATION:Grace Heritage Ranch\, Grace Heritage Ranch\, Santa Monica\, TX\, 78569\, United States
END:VEVENT
END:VCALENDAR