BEGIN:VCALENDAR
VERSION:2.0
PRODID:-// - ECPv6.15.1.1//NONSGML v1.0//EN
CALSCALE:GREGORIAN
METHOD:PUBLISH
X-ORIGINAL-URL:https://graceheritageranch.com
X-WR-CALDESC:Events for 
REFRESH-INTERVAL;VALUE=DURATION:PT1H
X-Robots-Tag:noindex
X-PUBLISHED-TTL:PT1H
BEGIN:VTIMEZONE
TZID:America/Cancun
BEGIN:STANDARD
TZOFFSETFROM:-0500
TZOFFSETTO:-0500
TZNAME:EST
DTSTART:20160101T000000
END:STANDARD
END:VTIMEZONE
BEGIN:VEVENT
DTSTART;TZID=America/Cancun:20160527T100000
DTEND;TZID=America/Cancun:20160527T123000
DTSTAMP:20260423T185442
CREATED:20160513T020331Z
LAST-MODIFIED:20160530T191757Z
UID:7180-1464343200-1464352200@graceheritageranch.com
SUMMARY:Private Tour - Upper Valley Group
DESCRIPTION:This is a private tour set up for a private group from the Upper Valley.Â  Thank you Laura!! \nPlease call 1-855-447-8687 to set up your private tour for groups of 15 or more.
URL:https://graceheritageranch.com/event/private-tour-2/
LOCATION:Grace Heritage Ranch\, Grace Heritage Ranch\, Santa Monica\, TX\, 78569\, United States
END:VEVENT
BEGIN:VEVENT
DTSTART;TZID=America/Cancun:20160521T100000
DTEND;TZID=America/Cancun:20160521T123000
DTSTAMP:20260423T185442
CREATED:20160507T205555Z
LAST-MODIFIED:20160507T205555Z
UID:7177-1463824800-1463833800@graceheritageranch.com
SUMMARY:On today's tour we welcome Girl Scout Troop 446\, Brownsville!
DESCRIPTION:Thank you Maribel for organizing this group!!!
URL:https://graceheritageranch.com/event/todays-tour-welcome-girl-scout-troop-446-brownsville/
LOCATION:Grace Heritage Ranch\, Grace Heritage Ranch\, Santa Monica\, TX\, 78569\, United States
END:VEVENT
BEGIN:VEVENT
DTSTART;TZID=America/Cancun:20160521T100000
DTEND;TZID=America/Cancun:20160521T123000
DTSTAMP:20260423T185442
CREATED:20160507T205423Z
LAST-MODIFIED:20160507T205423Z
UID:7176-1463824800-1463833800@graceheritageranch.com
SUMMARY:On today's tour we welcome Cameron and Hidalgo County Master Gardeners!
DESCRIPTION:Thank you Chuck for helping to coordinate this group!
URL:https://graceheritageranch.com/event/todays-tour-welcome-cameron-hidalgo-county-master-gardeners/
LOCATION:Grace Heritage Ranch\, Grace Heritage Ranch\, Santa Monica\, TX\, 78569\, United States
END:VEVENT
BEGIN:VEVENT
DTSTART;TZID=America/Cancun:20160521T100000
DTEND;TZID=America/Cancun:20160521T123000
DTSTAMP:20260423T185442
CREATED:20151225T170813Z
LAST-MODIFIED:20151225T170813Z
UID:1105-1463824800-1463833800@graceheritageranch.com
SUMMARY:Morning Public Tour
DESCRIPTION:Grace Heritage Ranch is all about education and fun! Come visit our 100 acre homestead in southeast Willacy County and interact with our heritage breed cattle\, goats\, turkeys\, chickens\, and more. Try your hand at feeding donkeys and milking a goat. Learn about organic gardening\, honey bees\, and spinning fiber into yarn. Much more to see and do!! \nSee our Visitor Information page for more information.
URL:https://graceheritageranch.com/event/morning-public-tour-111/
LOCATION:Grace Heritage Ranch\, Grace Heritage Ranch\, Santa Monica\, TX\, 78569\, United States
END:VEVENT
BEGIN:VEVENT
DTSTART;TZID=America/Cancun:20160518T110000
DTEND;TZID=America/Cancun:20160518T123000
DTSTAMP:20260423T185442
CREATED:20160430T143724Z
LAST-MODIFIED:20160430T143819Z
UID:7173-1463569200-1463574600@graceheritageranch.com
SUMMARY:Private Tour - Valley Family Limited
DESCRIPTION:This is a private tour set up for Valley Family Limited\, Harlingen\, TX.Â  Thank you Jamie!! \nPlease call 1-855-447-8687 to set up your private tour for groups of 15 or more.
URL:https://graceheritageranch.com/event/private-tour-valley-family-limited-3/
LOCATION:Grace Heritage Ranch\, Grace Heritage Ranch\, Santa Monica\, TX\, 78569\, United States
END:VEVENT
BEGIN:VEVENT
DTSTART;TZID=America/Cancun:20160516T110000
DTEND;TZID=America/Cancun:20160516T120000
DTSTAMP:20260423T185442
CREATED:20160430T143454Z
LAST-MODIFIED:20160430T143454Z
UID:7171-1463396400-1463400000@graceheritageranch.com
SUMMARY:Private Tour - Valley Family Limited
DESCRIPTION:This is a private tour set up for Valley Family Limited\, Harlingen\, TX.Â  Thank you Jamie!! \nPlease call 1-855-447-8687 to set up your private tour for groups of 15 or more.
URL:https://graceheritageranch.com/event/private-tour-valley-family-limited/
LOCATION:Grace Heritage Ranch\, Grace Heritage Ranch\, Santa Monica\, TX\, 78569\, United States
END:VEVENT
BEGIN:VEVENT
DTSTART;TZID=America/Cancun:20160514T100000
DTEND;TZID=America/Cancun:20160514T123000
DTSTAMP:20260423T185442
CREATED:20151225T170810Z
LAST-MODIFIED:20151225T170810Z
UID:1104-1463220000-1463229000@graceheritageranch.com
SUMMARY:Morning Public Tour
DESCRIPTION:Grace Heritage Ranch is all about education and fun! Come visit our 100 acre homestead in southeast Willacy County and interact with our heritage breed cattle\, goats\, turkeys\, chickens\, and more. Try your hand at feeding donkeys and milking a goat. Learn about organic gardening\, honey bees\, and spinning fiber into yarn. Much more to see and do!! \nSee our Visitor Information page for more information.
URL:https://graceheritageranch.com/event/morning-public-tour-110/
LOCATION:Grace Heritage Ranch\, Grace Heritage Ranch\, Santa Monica\, TX\, 78569\, United States
END:VEVENT
BEGIN:VEVENT
DTSTART;TZID=America/Cancun:20160507T100000
DTEND;TZID=America/Cancun:20160507T123000
DTSTAMP:20260423T185442
CREATED:20151225T170806Z
LAST-MODIFIED:20151225T170806Z
UID:1103-1462615200-1462624200@graceheritageranch.com
SUMMARY:Morning Public Tour
DESCRIPTION:Grace Heritage Ranch is all about education and fun! Come visit our 100 acre homestead in southeast Willacy County and interact with our heritage breed cattle\, goats\, turkeys\, chickens\, and more. Try your hand at feeding donkeys and milking a goat. Learn about organic gardening\, honey bees\, and spinning fiber into yarn. Much more to see and do!! \nSee our Visitor Information page for more information.
URL:https://graceheritageranch.com/event/morning-public-tour-109/
LOCATION:Grace Heritage Ranch\, Grace Heritage Ranch\, Santa Monica\, TX\, 78569\, United States
END:VEVENT
BEGIN:VEVENT
DTSTART;TZID=America/Cancun:20160430T100000
DTEND;TZID=America/Cancun:20160430T123000
DTSTAMP:20260423T185442
CREATED:20151225T170802Z
LAST-MODIFIED:20151225T170802Z
UID:1102-1462010400-1462019400@graceheritageranch.com
SUMMARY:Morning Public Tour
DESCRIPTION:Grace Heritage Ranch is all about education and fun! Come visit our 100 acre homestead in southeast Willacy County and interact with our heritage breed cattle\, goats\, turkeys\, chickens\, and more. Try your hand at feeding donkeys and milking a goat. Learn about organic gardening\, honey bees\, and spinning fiber into yarn. Much more to see and do!! \nSee our Visitor Information page for more information.
URL:https://graceheritageranch.com/event/morning-public-tour-108/
LOCATION:Grace Heritage Ranch\, Grace Heritage Ranch\, Santa Monica\, TX\, 78569\, United States
END:VEVENT
BEGIN:VEVENT
DTSTART;TZID=America/Cancun:20160429T093000
DTEND;TZID=America/Cancun:20160429T233000
DTSTAMP:20260423T185442
CREATED:20160413T122321Z
LAST-MODIFIED:20160413T122321Z
UID:7167-1461922200-1461972600@graceheritageranch.com
SUMMARY:Private Tour - Rangerville Elementary\, San Benito
DESCRIPTION:This is a private tour set up for students of Rangerville Elementary in San Benito. Thank you Nelda!! \nPlease call 1-855-447-8687 to set up your private tour for groups of 15 or more.
URL:https://graceheritageranch.com/event/private-tour-rangerville-elementary-san-benito/
LOCATION:Grace Heritage Ranch\, Grace Heritage Ranch\, Santa Monica\, TX\, 78569\, United States
END:VEVENT
BEGIN:VEVENT
DTSTART;TZID=America/Cancun:20160423T100000
DTEND;TZID=America/Cancun:20160423T123000
DTSTAMP:20260423T185442
CREATED:20151225T170758Z
LAST-MODIFIED:20160422T003833Z
UID:1101-1461405600-1461414600@graceheritageranch.com
SUMMARY:Morning Public Tour - CLOSED.  Sorry for the inconvenience.
DESCRIPTION:Grace Heritage Ranch is all about education and fun! Come visit our 100 acre homestead in southeast Willacy County and interact with our heritage breed cattle\, goats\, turkeys\, chickens\, and more. Try your hand at feeding donkeys and milking a goat. Learn about organic gardening\, honey bees\, and spinning fiber into yarn. Much more to see and do!! \nSee our Visitor Information page for more information.
URL:https://graceheritageranch.com/event/morning-public-tour-107/
LOCATION:Grace Heritage Ranch\, Grace Heritage Ranch\, Santa Monica\, TX\, 78569\, United States
END:VEVENT
BEGIN:VEVENT
DTSTART;TZID=America/Cancun:20160421T100000
DTEND;TZID=America/Cancun:20160421T123000
DTSTAMP:20260423T185442
CREATED:20160403T133246Z
LAST-MODIFIED:20160403T133848Z
UID:7163-1461232800-1461241800@graceheritageranch.com
SUMMARY:Private Tour - St Mary's Catholic School\, Brownsville
DESCRIPTION:This is a private tour set up for students of St Mary’s Catholic School in Brownsville. Thank you Patty!! \nPlease call 1-855-447-8687 to set up your private tour for groups of 15 or more.
URL:https://graceheritageranch.com/event/private-tour-st-marys-catholic-school-brownsville-2/
LOCATION:Grace Heritage Ranch\, Grace Heritage Ranch\, Santa Monica\, TX\, 78569\, United States
END:VEVENT
BEGIN:VEVENT
DTSTART;TZID=America/Cancun:20160419T100000
DTEND;TZID=America/Cancun:20160419T123000
DTSTAMP:20260423T185442
CREATED:20160403T134220Z
LAST-MODIFIED:20160403T134220Z
UID:7164-1461060000-1461069000@graceheritageranch.com
SUMMARY:Private Tour - Montessori Academy\, Harlingen
DESCRIPTION:This is a private tour set up for students of the Montessori Academy in Harlingen. Thank you Claudia!! \nPlease call 1-855-447-8687 to set up your private tour for groups of 15 or more.
URL:https://graceheritageranch.com/event/private-tour-montessori-academy-harlingen/
LOCATION:Grace Heritage Ranch\, Grace Heritage Ranch\, Santa Monica\, TX\, 78569\, United States
END:VEVENT
BEGIN:VEVENT
DTSTART;TZID=America/Cancun:20160416T100000
DTEND;TZID=America/Cancun:20160416T123000
DTSTAMP:20260423T185442
CREATED:20151225T170755Z
LAST-MODIFIED:20151225T170755Z
UID:1100-1460800800-1460809800@graceheritageranch.com
SUMMARY:Morning Public Tour
DESCRIPTION:Grace Heritage Ranch is all about education and fun! Come visit our 100 acre homestead in southeast Willacy County and interact with our heritage breed cattle\, goats\, turkeys\, chickens\, and more. Try your hand at feeding donkeys and milking a goat. Learn about organic gardening\, honey bees\, and spinning fiber into yarn. Much more to see and do!! \nSee our Visitor Information page for more information.
URL:https://graceheritageranch.com/event/morning-public-tour-106/
LOCATION:Grace Heritage Ranch\, Grace Heritage Ranch\, Santa Monica\, TX\, 78569\, United States
END:VEVENT
BEGIN:VEVENT
DTSTART;TZID=America/Cancun:20160411T100000
DTEND;TZID=America/Cancun:20160411T123000
DTSTAMP:20260423T185442
CREATED:20160404T000528Z
LAST-MODIFIED:20160404T000528Z
UID:7165-1460368800-1460377800@graceheritageranch.com
SUMMARY:Private Tour - Homeschool group\, Brownsville
DESCRIPTION:This is a private tour set up for students of a Brownsville Homeschool group. Thank you Michelle!! \nPlease call 1-855-447-8687 to set up your private tour for groups of 15 or more.
URL:https://graceheritageranch.com/event/private-tour-homeschool-group-brownsville/
LOCATION:Grace Heritage Ranch\, Grace Heritage Ranch\, Santa Monica\, TX\, 78569\, United States
END:VEVENT
BEGIN:VEVENT
DTSTART;TZID=America/Cancun:20160409T100000
DTEND;TZID=America/Cancun:20160409T123000
DTSTAMP:20260423T185442
CREATED:20151225T170751Z
LAST-MODIFIED:20151225T170751Z
UID:1099-1460196000-1460205000@graceheritageranch.com
SUMMARY:Morning Public Tour
DESCRIPTION:Grace Heritage Ranch is all about education and fun! Come visit our 100 acre homestead in southeast Willacy County and interact with our heritage breed cattle\, goats\, turkeys\, chickens\, and more. Try your hand at feeding donkeys and milking a goat. Learn about organic gardening\, honey bees\, and spinning fiber into yarn. Much more to see and do!! \nSee our Visitor Information page for more information.
URL:https://graceheritageranch.com/event/morning-public-tour-105/
LOCATION:Grace Heritage Ranch\, Grace Heritage Ranch\, Santa Monica\, TX\, 78569\, United States
END:VEVENT
BEGIN:VEVENT
DTSTART;TZID=America/Cancun:20160408T100000
DTEND;TZID=America/Cancun:20160408T123000
DTSTAMP:20260423T185442
CREATED:20160307T190944Z
LAST-MODIFIED:20160309T192759Z
UID:7157-1460109600-1460118600@graceheritageranch.com
SUMMARY:Private Tour - RGV Homeschool Co-op Resource
DESCRIPTION:This is a private tour set up for students of a Rio Grande Valley Homeschool Cooperative Resource. Thank you Sarah!! \nPlease call 1-855-447-8687 to set up your private tour for groups of 15 or more.
URL:https://graceheritageranch.com/event/private-tour/
LOCATION:Grace Heritage Ranch\, Grace Heritage Ranch\, Santa Monica\, TX\, 78569\, United States
END:VEVENT
BEGIN:VEVENT
DTSTART;TZID=America/Cancun:20160402T100000
DTEND;TZID=America/Cancun:20160402T123000
DTSTAMP:20260423T185442
CREATED:20151225T170748Z
LAST-MODIFIED:20151225T170748Z
UID:1098-1459591200-1459600200@graceheritageranch.com
SUMMARY:Morning Public Tour
DESCRIPTION:Grace Heritage Ranch is all about education and fun! Come visit our 100 acre homestead in southeast Willacy County and interact with our heritage breed cattle\, goats\, turkeys\, chickens\, and more. Try your hand at feeding donkeys and milking a goat. Learn about organic gardening\, honey bees\, and spinning fiber into yarn. Much more to see and do!! \nSee our Visitor Information page for more information.
URL:https://graceheritageranch.com/event/morning-public-tour-104/
LOCATION:Grace Heritage Ranch\, Grace Heritage Ranch\, Santa Monica\, TX\, 78569\, United States
END:VEVENT
BEGIN:VEVENT
DTSTART;TZID=America/Cancun:20160326T100000
DTEND;TZID=America/Cancun:20160326T123000
DTSTAMP:20260423T185442
CREATED:20151225T170744Z
LAST-MODIFIED:20151225T170744Z
UID:1097-1458986400-1458995400@graceheritageranch.com
SUMMARY:Morning Public Tour
DESCRIPTION:Grace Heritage Ranch is all about education and fun! Come visit our 100 acre homestead in southeast Willacy County and interact with our heritage breed cattle\, goats\, turkeys\, chickens\, and more. Try your hand at feeding donkeys and milking a goat. Learn about organic gardening\, honey bees\, and spinning fiber into yarn. Much more to see and do!! \nSee our Visitor Information page for more information.
URL:https://graceheritageranch.com/event/morning-public-tour-103/
LOCATION:Grace Heritage Ranch\, Grace Heritage Ranch\, Santa Monica\, TX\, 78569\, United States
END:VEVENT
BEGIN:VEVENT
DTSTART;TZID=America/Cancun:20160322T130000
DTEND;TZID=America/Cancun:20160322T150000
DTSTAMP:20260423T185442
CREATED:20160307T185941Z
LAST-MODIFIED:20160312T194353Z
UID:7156-1458651600-1458658800@graceheritageranch.com
SUMMARY:Private Tour PM - Lyford CISD
DESCRIPTION:This is a private tour set up for students of Lyford Elementary from Lyford\, TX. Thank you Rachel!! \nPlease call 1-855-447-8687 to set up your private tour for groups of 12 or more.
URL:https://graceheritageranch.com/event/private-tour-pm-lyford-cisd-3/
LOCATION:Grace Heritage Ranch\, Grace Heritage Ranch\, Santa Monica\, TX\, 78569\, United States
END:VEVENT
BEGIN:VEVENT
DTSTART;TZID=America/Cancun:20160322T093000
DTEND;TZID=America/Cancun:20160322T113000
DTSTAMP:20260423T185442
CREATED:20160307T185745Z
LAST-MODIFIED:20160312T194429Z
UID:7155-1458639000-1458646200@graceheritageranch.com
SUMMARY:Private Tour AM - Lyford CISD
DESCRIPTION:This is a private tour set up for students of Lyford Elementary from Lyford\, TX. Thank you Rachel!! \nPlease call 1-855-447-8687 to set up your private tour for groups of 15 or more.
URL:https://graceheritageranch.com/event/private-tour-am-lyford-cisd-2/
LOCATION:Grace Heritage Ranch\, Grace Heritage Ranch\, Santa Monica\, TX\, 78569\, United States
END:VEVENT
BEGIN:VEVENT
DTSTART;TZID=America/Cancun:20160319T100000
DTEND;TZID=America/Cancun:20160319T123000
DTSTAMP:20260423T185442
CREATED:20151225T170740Z
LAST-MODIFIED:20151225T170740Z
UID:1096-1458381600-1458390600@graceheritageranch.com
SUMMARY:Morning Public Tour
DESCRIPTION:Grace Heritage Ranch is all about education and fun! Come visit our 100 acre homestead in southeast Willacy County and interact with our heritage breed cattle\, goats\, turkeys\, chickens\, and more. Try your hand at feeding donkeys and milking a goat. Learn about organic gardening\, honey bees\, and spinning fiber into yarn. Much more to see and do!! \nSee our Visitor Information page for more information.
URL:https://graceheritageranch.com/event/morning-public-tour-102/
LOCATION:Grace Heritage Ranch\, Grace Heritage Ranch\, Santa Monica\, TX\, 78569\, United States
END:VEVENT
BEGIN:VEVENT
DTSTART;TZID=America/Cancun:20160312T100000
DTEND;TZID=America/Cancun:20160312T123000
DTSTAMP:20260423T185442
CREATED:20151225T170737Z
LAST-MODIFIED:20160307T190407Z
UID:1095-1457776800-1457785800@graceheritageranch.com
SUMMARY:Morning Public Tour - CLOSED but re-opening soon!!
DESCRIPTION:Grace Heritage Ranch is all about education and fun! Come visit our 100 acre homestead in southeast Willacy County and interact with our heritage breed cattle\, goats\, turkeys\, chickens\, and more. Try your hand at feeding donkeys and milking a goat. Learn about organic gardening\, honey bees\, and spinning fiber into yarn. Much more to see and do!! \nSee our Visitor Information page for more information.
URL:https://graceheritageranch.com/event/morning-public-tour-101/
LOCATION:Grace Heritage Ranch\, Grace Heritage Ranch\, Santa Monica\, TX\, 78569\, United States
END:VEVENT
BEGIN:VEVENT
DTSTART;TZID=America/Cancun:20160305T100000
DTEND;TZID=America/Cancun:20160305T123000
DTSTAMP:20260423T185442
CREATED:20151225T170732Z
LAST-MODIFIED:20160216T185322Z
UID:1094-1457172000-1457181000@graceheritageranch.com
SUMMARY:Morning Public Tour- CLOSED - Clean up from Flooding
DESCRIPTION:Grace Heritage Ranch is all about education and fun! Come visit our 100 acre homestead in southeast Willacy County and interact with our heritage breed cattle\, goats\, turkeys\, chickens\, and more. Try your hand at feeding donkeys and milking a goat. Learn about organic gardening\, honey bees\, and spinning fiber into yarn. Much more to see and do!! \nSee our Visitor Information page for more information.
URL:https://graceheritageranch.com/event/morning-public-tour-100/
LOCATION:Grace Heritage Ranch\, Grace Heritage Ranch\, Santa Monica\, TX\, 78569\, United States
END:VEVENT
BEGIN:VEVENT
DTSTART;TZID=America/Cancun:20160227T140000
DTEND;TZID=America/Cancun:20160227T163000
DTSTAMP:20260423T185442
CREATED:20151225T170728Z
LAST-MODIFIED:20160216T185233Z
UID:1093-1456581600-1456590600@graceheritageranch.com
SUMMARY:Afternoon Public Tour- CLOSED - Clean up from Flooding
DESCRIPTION:Grace Heritage Ranch is all about education and fun! Come visit our 100 acre homestead in southeast Willacy County and interact with our heritage breed cattle\, goats\, turkeys\, chickens\, and more. Try your hand at feeding donkeys and milking a goat. Learn about organic gardening\, honey bees\, and spinning fiber into yarn. Much more to see and do!! \nSee our Visitor Information page for more information.
URL:https://graceheritageranch.com/event/afternoon-public-tour-109/
LOCATION:Grace Heritage Ranch\, Grace Heritage Ranch\, Santa Monica\, TX\, 78569\, United States
END:VEVENT
BEGIN:VEVENT
DTSTART;TZID=America/Cancun:20160220T140000
DTEND;TZID=America/Cancun:20160220T163000
DTSTAMP:20260423T185442
CREATED:20151225T170722Z
LAST-MODIFIED:20160216T185127Z
UID:1092-1455976800-1455985800@graceheritageranch.com
SUMMARY:Afternoon Public Tour- CLOSED - Clean up from Flooding
DESCRIPTION:Grace Heritage Ranch is all about education and fun! Come visit our 100 acre homestead in southeast Willacy County and interact with our heritage breed cattle\, goats\, turkeys\, chickens\, and more. Try your hand at feeding donkeys and milking a goat. Learn about organic gardening\, honey bees\, and spinning fiber into yarn. Much more to see and do!! \nSee our Visitor Information page for more information.
URL:https://graceheritageranch.com/event/afternoon-public-tour-108/
LOCATION:Grace Heritage Ranch\, Grace Heritage Ranch\, Santa Monica\, TX\, 78569\, United States
END:VEVENT
BEGIN:VEVENT
DTSTART;TZID=America/Cancun:20160213T140000
DTEND;TZID=America/Cancun:20160213T163000
DTSTAMP:20260423T185442
CREATED:20151225T170717Z
LAST-MODIFIED:20160208T040619Z
UID:1091-1455372000-1455381000@graceheritageranch.com
SUMMARY:Afternoon Public Tour - CLOSED - Clean up from Flooding
DESCRIPTION:Grace Heritage Ranch is all about education and fun! Come visit our 100 acre homestead in southeast Willacy County and interact with our heritage breed cattle\, goats\, turkeys\, chickens\, and more. Try your hand at feeding donkeys and milking a goat. Learn about organic gardening\, honey bees\, and spinning fiber into yarn. Much more to see and do!! \nSee our Visitor Information page for more information.
URL:https://graceheritageranch.com/event/afternoon-public-tour-107/
LOCATION:Grace Heritage Ranch\, Grace Heritage Ranch\, Santa Monica\, TX\, 78569\, United States
END:VEVENT
BEGIN:VEVENT
DTSTART;TZID=America/Cancun:20160206T140000
DTEND;TZID=America/Cancun:20160206T163000
DTSTAMP:20260423T185442
CREATED:20151225T170713Z
LAST-MODIFIED:20160128T145107Z
UID:1090-1454767200-1454776200@graceheritageranch.com
SUMMARY:Afternoon Public Tour - CLOSED due to flooding
DESCRIPTION:Grace Heritage Ranch is all about education and fun! Come visit our 100 acre homestead in southeast Willacy County and interact with our heritage breed cattle\, goats\, turkeys\, chickens\, and more. Try your hand at feeding donkeys and milking a goat. Learn about organic gardening\, honey bees\, and spinning fiber into yarn. Much more to see and do!! \nSee our Visitor Information page for more information.
URL:https://graceheritageranch.com/event/afternoon-public-tour-106/
LOCATION:Grace Heritage Ranch\, Grace Heritage Ranch\, Santa Monica\, TX\, 78569\, United States
END:VEVENT
BEGIN:VEVENT
DTSTART;TZID=America/Cancun:20160130T140000
DTEND;TZID=America/Cancun:20160130T163000
DTSTAMP:20260423T185442
CREATED:20151225T170709Z
LAST-MODIFIED:20160128T144925Z
UID:1089-1454162400-1454171400@graceheritageranch.com
SUMMARY:Afternoon Public Tour - CLOSED due to flooding
DESCRIPTION:Grace Heritage Ranch is all about education and fun! Come visit our 100 acre homestead in southeast Willacy County and interact with our heritage breed cattle\, goats\, turkeys\, chickens\, and more. Try your hand at feeding donkeys and milking a goat. Learn about organic gardening\, honey bees\, and spinning fiber into yarn. Much more to see and do!! \nSee our Visitor Information page for more information.
URL:https://graceheritageranch.com/event/afternoon-public-tour-101/
LOCATION:Grace Heritage Ranch\, Grace Heritage Ranch\, Santa Monica\, TX\, 78569\, United States
END:VEVENT
BEGIN:VEVENT
DTSTART;TZID=America/Cancun:20160123T140000
DTEND;TZID=America/Cancun:20160123T163000
DTSTAMP:20260423T185442
CREATED:20151225T170705Z
LAST-MODIFIED:20160112T031810Z
UID:1088-1453557600-1453566600@graceheritageranch.com
SUMMARY:Afternoon Public Tour - CLOSED due to flooding
DESCRIPTION:Grace Heritage Ranch is all about education and fun! Come visit our 100 acre homestead in southeast Willacy County and interact with our heritage breed cattle\, goats\, turkeys\, chickens\, and more. Try your hand at feeding donkeys and milking a goat. Learn about organic gardening\, honey bees\, and spinning fiber into yarn. Much more to see and do!! \nSee our Visitor Information page for more information.
URL:https://graceheritageranch.com/event/afternoon-public-tour-100/
LOCATION:Grace Heritage Ranch\, Grace Heritage Ranch\, Santa Monica\, TX\, 78569\, United States
END:VEVENT
END:VCALENDAR