BEGIN:VCALENDAR
VERSION:2.0
PRODID:-// - ECPv6.15.1.1//NONSGML v1.0//EN
CALSCALE:GREGORIAN
METHOD:PUBLISH
X-ORIGINAL-URL:https://graceheritageranch.com
X-WR-CALDESC:Events for 
REFRESH-INTERVAL;VALUE=DURATION:PT1H
X-Robots-Tag:noindex
X-PUBLISHED-TTL:PT1H
BEGIN:VTIMEZONE
TZID:America/Chicago
BEGIN:DAYLIGHT
TZOFFSETFROM:-0600
TZOFFSETTO:-0500
TZNAME:CDT
DTSTART:20150308T080000
END:DAYLIGHT
BEGIN:STANDARD
TZOFFSETFROM:-0500
TZOFFSETTO:-0600
TZNAME:CST
DTSTART:20151101T070000
END:STANDARD
END:VTIMEZONE
BEGIN:VEVENT
DTSTART;TZID=America/Chicago:20150509T140000
DTEND;TZID=America/Chicago:20150509T163000
DTSTAMP:20260423T202201
CREATED:20140920T070053Z
LAST-MODIFIED:20141025T100714Z
UID:744-1431180000-1431189000@graceheritageranch.com
SUMMARY:Afternoon Public Tour
DESCRIPTION:Grace Heritage Ranch is all about education and fun! Come visit our 100 acre homestead in southeast Willacy County and interact with our heritage breed cattle\, goats\, turkeys\, chickens\, and more. Try your hand at feeding donkeys and milking a goat. Learn about organic gardening\, honey bees\, and spinning fiber into yarn. Much more to see and do!! \nSee our Visitor Information page for more information.
URL:https://graceheritageranch.com/event/afternoon-public-tour-87/
LOCATION:Grace Heritage Ranch\, Grace Heritage Ranch\, Santa Monica\, TX\, 78569\, United States
END:VEVENT
BEGIN:VEVENT
DTSTART;TZID=America/Chicago:20150509T100000
DTEND;TZID=America/Chicago:20150509T123000
DTSTAMP:20260423T202201
CREATED:20140920T070053Z
LAST-MODIFIED:20141025T100714Z
UID:743-1431165600-1431174600@graceheritageranch.com
SUMMARY:Morning Public Tour
DESCRIPTION:Grace Heritage Ranch is all about education and fun! Come visit our 100 acre homestead in southeast Willacy County and interact with our heritage breed cattle\, goats\, turkeys\, chickens\, and more. Try your hand at feeding donkeys and milking a goat. Learn about organic gardening\, honey bees\, and spinning fiber into yarn. Much more to see and do!! \nSee our Visitor Information page for more information.
URL:https://graceheritageranch.com/event/morning-public-tour-85/
LOCATION:Grace Heritage Ranch\, Grace Heritage Ranch\, Santa Monica\, TX\, 78569\, United States
END:VEVENT
BEGIN:VEVENT
DTSTART;TZID=America/Chicago:20150502T140000
DTEND;TZID=America/Chicago:20150502T163000
DTSTAMP:20260423T202201
CREATED:20140920T070053Z
LAST-MODIFIED:20141025T100714Z
UID:742-1430575200-1430584200@graceheritageranch.com
SUMMARY:Afternoon Public Tour
DESCRIPTION:Grace Heritage Ranch is all about education and fun! Come visit our 100 acre homestead in southeast Willacy County and interact with our heritage breed cattle\, goats\, turkeys\, chickens\, and more. Try your hand at feeding donkeys and milking a goat. Learn about organic gardening\, honey bees\, and spinning fiber into yarn. Much more to see and do!! \nSee our Visitor Information page for more information.
URL:https://graceheritageranch.com/event/afternoon-public-tour-86/
LOCATION:Grace Heritage Ranch\, Grace Heritage Ranch\, Santa Monica\, TX\, 78569\, United States
END:VEVENT
BEGIN:VEVENT
DTSTART;TZID=America/Chicago:20150502T100000
DTEND;TZID=America/Chicago:20150502T123000
DTSTAMP:20260423T202201
CREATED:20140920T070053Z
LAST-MODIFIED:20141025T100714Z
UID:741-1430560800-1430569800@graceheritageranch.com
SUMMARY:Morning Public Tour
DESCRIPTION:Grace Heritage Ranch is all about education and fun! Come visit our 100 acre homestead in southeast Willacy County and interact with our heritage breed cattle\, goats\, turkeys\, chickens\, and more. Try your hand at feeding donkeys and milking a goat. Learn about organic gardening\, honey bees\, and spinning fiber into yarn. Much more to see and do!! \nSee our Visitor Information page for more information.
URL:https://graceheritageranch.com/event/morning-public-tour-84/
LOCATION:Grace Heritage Ranch\, Grace Heritage Ranch\, Santa Monica\, TX\, 78569\, United States
END:VEVENT
BEGIN:VEVENT
DTSTART;TZID=America/Chicago:20150430T100000
DTEND;TZID=America/Chicago:20150430T123000
DTSTAMP:20260423T202201
CREATED:20150405T170553Z
LAST-MODIFIED:20150405T170553Z
UID:811-1430388000-1430397000@graceheritageranch.com
SUMMARY:Private Tour - Nanny Elementary\, Riviera\, TX
DESCRIPTION:This is a private tour set up for students of Nanny Elementary from Riviera\, TX. Thank you Danielle!! \nPlease call 1-855-447-8687 to set up your private tour for groups of 12 or more.
URL:https://graceheritageranch.com/event/private-tour-nanny-elementary-riviera-tx/
LOCATION:Grace Heritage Ranch\, Grace Heritage Ranch\, Santa Monica\, TX\, 78569\, United States
END:VEVENT
BEGIN:VEVENT
DTSTART;TZID=America/Chicago:20150429T130000
DTEND;TZID=America/Chicago:20150429T143000
DTSTAMP:20260423T202201
CREATED:20150410T025003Z
LAST-MODIFIED:20150410T025003Z
UID:814-1430312400-1430317800@graceheritageranch.com
SUMMARY:Private Tour PM - Lyford CISD
DESCRIPTION:This is a private tour set up for students of Lyford Elementary from Lyford\, TX. Thank you Rachel!! \nPlease call 1-855-447-8687 to set up your private tour for groups of 12 or more.
URL:https://graceheritageranch.com/event/private-tour-pm-lyford-cisd/
LOCATION:Grace Heritage Ranch\, Grace Heritage Ranch\, Santa Monica\, TX\, 78569\, United States
END:VEVENT
BEGIN:VEVENT
DTSTART;TZID=America/Chicago:20150429T090000
DTEND;TZID=America/Chicago:20150429T103000
DTSTAMP:20260423T202201
CREATED:20150410T024420Z
LAST-MODIFIED:20150410T024854Z
UID:813-1430298000-1430303400@graceheritageranch.com
SUMMARY:Private Tour AM - Lyford CISD
DESCRIPTION:This is a private tour set up for students of Lyford Elementary from Lyford\, TX. Thank you Rachel!! \nPlease call 1-855-447-8687 to set up your private tour for groups of 12 or more.
URL:https://graceheritageranch.com/event/private-tour-lyford-cisd/
LOCATION:Grace Heritage Ranch\, Grace Heritage Ranch\, Santa Monica\, TX\, 78569\, United States
END:VEVENT
BEGIN:VEVENT
DTSTART;TZID=America/Chicago:20150425T140000
DTEND;TZID=America/Chicago:20150425T163000
DTSTAMP:20260423T202201
CREATED:20140920T070053Z
LAST-MODIFIED:20150424T233510Z
UID:740-1429970400-1429979400@graceheritageranch.com
SUMMARY:Afternoon Public Tour - CANCELED - TOO WET
DESCRIPTION:Grace Heritage Ranch is all about education and fun! Come visit our 100 acre homestead in southeast Willacy County and interact with our heritage breed cattle\, goats\, turkeys\, chickens\, and more. Try your hand at feeding donkeys and milking a goat. Learn about organic gardening\, honey bees\, and spinning fiber into yarn. Much more to see and do!! \nSee our Visitor Information page for more information.
URL:https://graceheritageranch.com/event/afternoon-public-tour-85/
LOCATION:Grace Heritage Ranch\, Grace Heritage Ranch\, Santa Monica\, TX\, 78569\, United States
END:VEVENT
BEGIN:VEVENT
DTSTART;TZID=America/Chicago:20150425T100000
DTEND;TZID=America/Chicago:20150425T123000
DTSTAMP:20260423T202201
CREATED:20140920T070053Z
LAST-MODIFIED:20150424T233431Z
UID:739-1429956000-1429965000@graceheritageranch.com
SUMMARY:Morning Public Tour - CANCELED - TOO WET
DESCRIPTION:Grace Heritage Ranch is all about education and fun! Come visit our 100 acre homestead in southeast Willacy County and interact with our heritage breed cattle\, goats\, turkeys\, chickens\, and more. Try your hand at feeding donkeys and milking a goat. Learn about organic gardening\, honey bees\, and spinning fiber into yarn. Much more to see and do!! \nSee our Visitor Information page for more information.
URL:https://graceheritageranch.com/event/morning-public-tour-83/
LOCATION:Grace Heritage Ranch\, Grace Heritage Ranch\, Santa Monica\, TX\, 78569\, United States
END:VEVENT
BEGIN:VEVENT
DTSTART;TZID=America/Chicago:20150418T140000
DTEND;TZID=America/Chicago:20150418T163000
DTSTAMP:20260423T202201
CREATED:20140920T070053Z
LAST-MODIFIED:20141025T100714Z
UID:738-1429365600-1429374600@graceheritageranch.com
SUMMARY:Afternoon Public Tour
DESCRIPTION:Grace Heritage Ranch is all about education and fun! Come visit our 100 acre homestead in southeast Willacy County and interact with our heritage breed cattle\, goats\, turkeys\, chickens\, and more. Try your hand at feeding donkeys and milking a goat. Learn about organic gardening\, honey bees\, and spinning fiber into yarn. Much more to see and do!! \nSee our Visitor Information page for more information.
URL:https://graceheritageranch.com/event/afternoon-public-tour-84/
LOCATION:Grace Heritage Ranch\, Grace Heritage Ranch\, Santa Monica\, TX\, 78569\, United States
END:VEVENT
BEGIN:VEVENT
DTSTART;TZID=America/Chicago:20150418T100000
DTEND;TZID=America/Chicago:20150418T123000
DTSTAMP:20260423T202201
CREATED:20140920T070053Z
LAST-MODIFIED:20141025T100713Z
UID:737-1429351200-1429360200@graceheritageranch.com
SUMMARY:Morning Public Tour
DESCRIPTION:Grace Heritage Ranch is all about education and fun! Come visit our 100 acre homestead in southeast Willacy County and interact with our heritage breed cattle\, goats\, turkeys\, chickens\, and more. Try your hand at feeding donkeys and milking a goat. Learn about organic gardening\, honey bees\, and spinning fiber into yarn. Much more to see and do!! \nSee our Visitor Information page for more information.
URL:https://graceheritageranch.com/event/morning-public-tour-82/
LOCATION:Grace Heritage Ranch\, Grace Heritage Ranch\, Santa Monica\, TX\, 78569\, United States
END:VEVENT
BEGIN:VEVENT
DTSTART;TZID=America/Chicago:20150411T140000
DTEND;TZID=America/Chicago:20150411T163000
DTSTAMP:20260423T202201
CREATED:20140920T070053Z
LAST-MODIFIED:20150411T130212Z
UID:736-1428760800-1428769800@graceheritageranch.com
SUMMARY:Afternoon Public Tour - CLOSED - Muddy Conditions
DESCRIPTION:Grace Heritage Ranch is all about education and fun! Come visit our 100 acre homestead in southeast Willacy County and interact with our heritage breed cattle\, goats\, turkeys\, chickens\, and more. Try your hand at feeding donkeys and milking a goat. Learn about organic gardening\, honey bees\, and spinning fiber into yarn. Much more to see and do!! \nSee our Visitor Information page for more information.
URL:https://graceheritageranch.com/event/afternoon-public-tour-83/
LOCATION:Grace Heritage Ranch\, Grace Heritage Ranch\, Santa Monica\, TX\, 78569\, United States
END:VEVENT
BEGIN:VEVENT
DTSTART;TZID=America/Chicago:20150411T100000
DTEND;TZID=America/Chicago:20150411T123000
DTSTAMP:20260423T202201
CREATED:20140920T070052Z
LAST-MODIFIED:20150411T130053Z
UID:735-1428746400-1428755400@graceheritageranch.com
SUMMARY:Morning Public Tour - CLOSED - Muddy Conditions
DESCRIPTION:Grace Heritage Ranch is all about education and fun! Come visit our 100 acre homestead in southeast Willacy County and interact with our heritage breed cattle\, goats\, turkeys\, chickens\, and more. Try your hand at feeding donkeys and milking a goat. Learn about organic gardening\, honey bees\, and spinning fiber into yarn. Much more to see and do!! \nSee our Visitor Information page for more information.
URL:https://graceheritageranch.com/event/morning-public-tour-81/
LOCATION:Grace Heritage Ranch\, Grace Heritage Ranch\, Santa Monica\, TX\, 78569\, United States
END:VEVENT
BEGIN:VEVENT
DTSTART;TZID=America/Chicago:20150410T100000
DTEND;TZID=America/Chicago:20150410T120000
DTSTAMP:20260423T202201
CREATED:20150406T215120Z
LAST-MODIFIED:20150406T215204Z
UID:812-1428660000-1428667200@graceheritageranch.com
SUMMARY:Private Tour - St. Paul Academy\, Harlingen
DESCRIPTION:This is a private tour set up for students of St. Paul Lutheran AcademyÂ from Harlingen\, TX.Â Â  Thank you Billie!! \nPlease call 1-855-447-8687 to set up your private tour for groups of 12 or more.
URL:https://graceheritageranch.com/event/private-tour-st-paul-academy-harlingen/
LOCATION:Grace Heritage Ranch\, Grace Heritage Ranch\, Santa Monica\, TX\, 78569\, United States
END:VEVENT
BEGIN:VEVENT
DTSTART;TZID=America/Chicago:20150404T140000
DTEND;TZID=America/Chicago:20150404T163000
DTSTAMP:20260423T202201
CREATED:20140920T070052Z
LAST-MODIFIED:20141025T100713Z
UID:734-1428156000-1428165000@graceheritageranch.com
SUMMARY:Afternoon Public Tour
DESCRIPTION:Grace Heritage Ranch is all about education and fun! Come visit our 100 acre homestead in southeast Willacy County and interact with our heritage breed cattle\, goats\, turkeys\, chickens\, and more. Try your hand at feeding donkeys and milking a goat. Learn about organic gardening\, honey bees\, and spinning fiber into yarn. Much more to see and do!! \nSee our Visitor Information page for more information.
URL:https://graceheritageranch.com/event/afternoon-public-tour-82/
LOCATION:Grace Heritage Ranch\, Grace Heritage Ranch\, Santa Monica\, TX\, 78569\, United States
END:VEVENT
BEGIN:VEVENT
DTSTART;TZID=America/Chicago:20150404T100000
DTEND;TZID=America/Chicago:20150404T123000
DTSTAMP:20260423T202201
CREATED:20140920T070052Z
LAST-MODIFIED:20141025T100713Z
UID:733-1428141600-1428150600@graceheritageranch.com
SUMMARY:Morning Public Tour
DESCRIPTION:Grace Heritage Ranch is all about education and fun! Come visit our 100 acre homestead in southeast Willacy County and interact with our heritage breed cattle\, goats\, turkeys\, chickens\, and more. Try your hand at feeding donkeys and milking a goat. Learn about organic gardening\, honey bees\, and spinning fiber into yarn. Much more to see and do!! \nSee our Visitor Information page for more information.
URL:https://graceheritageranch.com/event/morning-public-tour-80/
LOCATION:Grace Heritage Ranch\, Grace Heritage Ranch\, Santa Monica\, TX\, 78569\, United States
END:VEVENT
BEGIN:VEVENT
DTSTART;TZID=America/Chicago:20150331T100000
DTEND;TZID=America/Chicago:20150331T123000
DTSTAMP:20260423T202201
CREATED:20150306T003824Z
LAST-MODIFIED:20150306T004917Z
UID:809-1427796000-1427805000@graceheritageranch.com
SUMMARY:Private Tour - Incarnate Word Academy\, Brownsville
DESCRIPTION:This is a private tour set up forÂ students of Incarnate Word Academy fromÂ Brownsville\, TX.Â Â  Thank you Elizabeth!! \nPlease call 1-855-447-8687 to set up your private tour for groups of 12 or more.
URL:https://graceheritageranch.com/event/private-tour-incarnate-word-academy-brownsville/
LOCATION:Grace Heritage Ranch\, Grace Heritage Ranch\, Santa Monica\, TX\, 78569\, United States
END:VEVENT
BEGIN:VEVENT
DTSTART;TZID=America/Chicago:20150328T140000
DTEND;TZID=America/Chicago:20150328T163000
DTSTAMP:20260423T202201
CREATED:20140920T070052Z
LAST-MODIFIED:20141025T100713Z
UID:732-1427551200-1427560200@graceheritageranch.com
SUMMARY:Afternoon Public Tour
DESCRIPTION:Grace Heritage Ranch is all about education and fun! Come visit our 100 acre homestead in southeast Willacy County and interact with our heritage breed cattle\, goats\, turkeys\, chickens\, and more. Try your hand at feeding donkeys and milking a goat. Learn about organic gardening\, honey bees\, and spinning fiber into yarn. Much more to see and do!! \nSee our Visitor Information page for more information.
URL:https://graceheritageranch.com/event/afternoon-public-tour-81/
LOCATION:Grace Heritage Ranch\, Grace Heritage Ranch\, Santa Monica\, TX\, 78569\, United States
END:VEVENT
BEGIN:VEVENT
DTSTART;TZID=America/Chicago:20150328T100000
DTEND;TZID=America/Chicago:20150328T123000
DTSTAMP:20260423T202201
CREATED:20140920T070052Z
LAST-MODIFIED:20141025T100713Z
UID:731-1427536800-1427545800@graceheritageranch.com
SUMMARY:Morning Public Tour
DESCRIPTION:Grace Heritage Ranch is all about education and fun! Come visit our 100 acre homestead in southeast Willacy County and interact with our heritage breed cattle\, goats\, turkeys\, chickens\, and more. Try your hand at feeding donkeys and milking a goat. Learn about organic gardening\, honey bees\, and spinning fiber into yarn. Much more to see and do!! \nSee our Visitor Information page for more information.
URL:https://graceheritageranch.com/event/morning-public-tour-79/
LOCATION:Grace Heritage Ranch\, Grace Heritage Ranch\, Santa Monica\, TX\, 78569\, United States
END:VEVENT
BEGIN:VEVENT
DTSTART;TZID=America/Chicago:20150327T140000
DTEND;TZID=America/Chicago:20150327T163000
DTSTAMP:20260423T202201
CREATED:20150225T002454Z
LAST-MODIFIED:20150225T002454Z
UID:805-1427464800-1427473800@graceheritageranch.com
SUMMARY:Private Tour - J Five RV Park
DESCRIPTION:This is a private tour set up for theÂ J Five RV Park from Mission\, TX.Â Â  Thank you Marty!! \nPlease call 1-855-447-8687 to set up your private tour for groups of 12 or more.
URL:https://graceheritageranch.com/event/private-tour-j-five-rv-park/
LOCATION:Grace Heritage Ranch\, Grace Heritage Ranch\, Santa Monica\, TX\, 78569\, United States
END:VEVENT
BEGIN:VEVENT
DTSTART;TZID=America/Chicago:20150326T100000
DTEND;TZID=America/Chicago:20150326T123000
DTSTAMP:20260423T202201
CREATED:20150223T024702Z
LAST-MODIFIED:20150226T171943Z
UID:801-1427364000-1427373000@graceheritageranch.com
SUMMARY:Private Tour - Harlingen High School Visually Impaired
DESCRIPTION:This is a private tour set up for students from Harlingen High School.Â Â  Thank you Ashley!! \nPlease call 1-855-447-8687 to set up your private tour for groups of 12 or more.
URL:https://graceheritageranch.com/event/private-tour-harlingen-high-school-visually-impaired/
LOCATION:Grace Heritage Ranch\, Grace Heritage Ranch\, Santa Monica\, TX\, 78569\, United States
END:VEVENT
BEGIN:VEVENT
DTSTART;TZID=America/Chicago:20150321T140000
DTEND;TZID=America/Chicago:20150321T163000
DTSTAMP:20260423T202201
CREATED:20140920T070052Z
LAST-MODIFIED:20150320T182216Z
UID:730-1426946400-1426955400@graceheritageranch.com
SUMMARY:Afternoon Public Tour - CANCELED - Standing Water
DESCRIPTION:Grace Heritage Ranch is all about education and fun! Come visit our 100 acre homestead in southeast Willacy County and interact with our heritage breed cattle\, goats\, turkeys\, chickens\, and more. Try your hand at feeding donkeys and milking a goat. Learn about organic gardening\, honey bees\, and spinning fiber into yarn. Much more to see and do!! \nSee our Visitor Information page for more information.
URL:https://graceheritageranch.com/event/afternoon-public-tour-80/
LOCATION:Grace Heritage Ranch\, Grace Heritage Ranch\, Santa Monica\, TX\, 78569\, United States
END:VEVENT
BEGIN:VEVENT
DTSTART;TZID=America/Chicago:20150321T100000
DTEND;TZID=America/Chicago:20150321T123000
DTSTAMP:20260423T202201
CREATED:20140920T070052Z
LAST-MODIFIED:20150320T182116Z
UID:729-1426932000-1426941000@graceheritageranch.com
SUMMARY:Morning Public Tour - CANCELED - Standing Water
DESCRIPTION:Grace Heritage Ranch is all about education and fun! Come visit our 100 acre homestead in southeast Willacy County and interact with our heritage breed cattle\, goats\, turkeys\, chickens\, and more. Try your hand at feeding donkeys and milking a goat. Learn about organic gardening\, honey bees\, and spinning fiber into yarn. Much more to see and do!! \nSee our Visitor Information page for more information.
URL:https://graceheritageranch.com/event/morning-public-tour-78/
LOCATION:Grace Heritage Ranch\, Grace Heritage Ranch\, Santa Monica\, TX\, 78569\, United States
END:VEVENT
BEGIN:VEVENT
DTSTART;TZID=America/Chicago:20150314T140000
DTEND;TZID=America/Chicago:20150314T163000
DTSTAMP:20260423T202201
CREATED:20140920T070052Z
LAST-MODIFIED:20150312T004630Z
UID:728-1426341600-1426350600@graceheritageranch.com
SUMMARY:Afternoon Public Tour - CANCELED - STANDING WATER
DESCRIPTION:Grace Heritage Ranch is all about education and fun! Come visit our 100 acre homestead in southeast Willacy County and interact with our heritage breed cattle\, goats\, turkeys\, chickens\, and more. Try your hand at feeding donkeys and milking a goat. Learn about organic gardening\, honey bees\, and spinning fiber into yarn. Much more to see and do!! \nSee our Visitor Information page for more information.
URL:https://graceheritageranch.com/event/afternoon-public-tour-79/
LOCATION:Grace Heritage Ranch\, Grace Heritage Ranch\, Santa Monica\, TX\, 78569\, United States
END:VEVENT
BEGIN:VEVENT
DTSTART;TZID=America/Chicago:20150314T100000
DTEND;TZID=America/Chicago:20150314T123000
DTSTAMP:20260423T202201
CREATED:20140920T070052Z
LAST-MODIFIED:20150312T004540Z
UID:727-1426327200-1426336200@graceheritageranch.com
SUMMARY:Morning Public Tour - CANCELED - STANDING WATER
DESCRIPTION:Grace Heritage Ranch is all about education and fun! Come visit our 100 acre homestead in southeast Willacy County and interact with our heritage breed cattle\, goats\, turkeys\, chickens\, and more. Try your hand at feeding donkeys and milking a goat. Learn about organic gardening\, honey bees\, and spinning fiber into yarn. Much more to see and do!! \nSee our Visitor Information page for more information.
URL:https://graceheritageranch.com/event/morning-public-tour-77/
LOCATION:Grace Heritage Ranch\, Grace Heritage Ranch\, Santa Monica\, TX\, 78569\, United States
END:VEVENT
BEGIN:VEVENT
DTSTART;TZID=America/Chicago:20150313T100000
DTEND;TZID=America/Chicago:20150313T123000
DTSTAMP:20260423T202201
CREATED:20150306T003120Z
LAST-MODIFIED:20150306T003135Z
UID:808-1426240800-1426249800@graceheritageranch.com
SUMMARY:Private Tour - Winter Texan Group
DESCRIPTION:This is a private tour set up forÂ a Winter Texan Group fromÂ Mercedes\, TX.Â Â  Thank you Jessie!! \nPlease call 1-855-447-8687 to set up your private tour for groups of 12 or more.
URL:https://graceheritageranch.com/event/private-tour-winter-texas-group/
LOCATION:Grace Heritage Ranch\, Grace Heritage Ranch\, Santa Monica\, TX\, 78569\, United States
END:VEVENT
BEGIN:VEVENT
DTSTART;TZID=America/Chicago:20150311T140000
DTEND;TZID=America/Chicago:20150311T163000
DTSTAMP:20260423T202201
CREATED:20150225T001952Z
LAST-MODIFIED:20150225T002020Z
UID:804-1426082400-1426091400@graceheritageranch.com
SUMMARY:Private Tour - VIP RV Park West
DESCRIPTION:This is a private tour set up for the VIP RV Park from La Feria\, TX.Â Â  Thank you Rene!! \nPlease call 1-855-447-8687 to set up your private tour for groups of 12 or more.
URL:https://graceheritageranch.com/event/private-tour-vip-rv-park-west/
LOCATION:Grace Heritage Ranch\, Grace Heritage Ranch\, Santa Monica\, TX\, 78569\, United States
END:VEVENT
BEGIN:VEVENT
DTSTART;TZID=America/Chicago:20150307T140000
DTEND;TZID=America/Chicago:20150307T163000
DTSTAMP:20260423T202201
CREATED:20140920T070051Z
LAST-MODIFIED:20150226T171731Z
UID:726-1425736800-1425745800@graceheritageranch.com
SUMMARY:Afternoon Public Tour
DESCRIPTION:Grace Heritage Ranch is all about education and fun! Come visit our 100 acre homestead in southeast Willacy County and interact with our heritage breed cattle\, goats\, turkeys\, chickens\, and more. Try your hand at feeding donkeys and milking a goat. Learn about organic gardening\, honey bees\, and spinning fiber into yarn. Much more to see and do!! \nSee our Visitor Information page for more information.
URL:https://graceheritageranch.com/event/afternoon-public-tour-78/
LOCATION:Grace Heritage Ranch\, Grace Heritage Ranch\, Santa Monica\, TX\, 78569\, United States
END:VEVENT
BEGIN:VEVENT
DTSTART;TZID=America/Chicago:20150307T100000
DTEND;TZID=America/Chicago:20150307T123000
DTSTAMP:20260423T202201
CREATED:20140920T070051Z
LAST-MODIFIED:20150226T171838Z
UID:725-1425722400-1425731400@graceheritageranch.com
SUMMARY:Morning Public Tour and Boy Scouts - Rio Grande Council
DESCRIPTION:Grace Heritage Ranch is all about education and fun! Come visit our 100 acre homestead in southeast Willacy County and interact with our heritage breed cattle\, goats\, turkeys\, chickens\, and more. Try your hand at feeding donkeys and milking a goat. Learn about organic gardening\, honey bees\, and spinning fiber into yarn. Much more to see and do!! \nSee our Visitor Information page for more information.
URL:https://graceheritageranch.com/event/morning-public-tour-76/
LOCATION:Grace Heritage Ranch\, Grace Heritage Ranch\, Santa Monica\, TX\, 78569\, United States
END:VEVENT
BEGIN:VEVENT
DTSTART;TZID=America/Chicago:20150306T140000
DTEND;TZID=America/Chicago:20150306T163000
DTSTAMP:20260423T202201
CREATED:20150225T001747Z
LAST-MODIFIED:20150225T001747Z
UID:803-1425650400-1425659400@graceheritageranch.com
SUMMARY:Private Tour - Magnolia RV Park
DESCRIPTION:This is a private tour set up for the Magnolia RV Park from Donna\, TX.Â Â  Thank you David!! \nPlease call 1-855-447-8687 to set up your private tour for groups of 12 or more.
URL:https://graceheritageranch.com/event/private-tour-magnolia-rv-park-2/
LOCATION:Grace Heritage Ranch\, Grace Heritage Ranch\, Santa Monica\, TX\, 78569\, United States
END:VEVENT
END:VCALENDAR